0.00000000000000
0.10000000000000
0.10000000000000
-0.00000000000000
702653.44986900699000
249331.80093004979000
