0.00000000000000
0.10000000000000
0.10000000000000
-0.00000000000000
702610.44986900699000
253985.80093004979000
