0.00000000000000
0.10000000000000
0.10000000000000
-0.00000000000000
702617.44986900699000
256980.80093004979000
