0.00000000000000
0.10000000000000
0.10000000000000
-0.00000000000000
702633.44986900699000
259323.80093004979000
