0.00000000000000
0.10000000000000
0.10000000000000
-0.00000000000000
702652.44986900711000
262488.80093004979000
