0.00000000000000
0.10000000000000
0.10000000000000
-0.00000000000000
702683.44986900711000
267890.80093004979000
