-0.00000000000000
-0.10000000000000
-0.10000000000000
0.00000000000000
704572.55013099289000
275824.19906995021000
