-0.00000000000000
-0.10000000000000
-0.10000000000000
0.00000000000000
704570.55013099289000
278068.19906995021000
