-0.00000000000000
-0.10000000000000
-0.10000000000000
0.00000000000000
704577.55013099289000
280399.19906995021000
