0.00000000000000
0.09000000000000
0.09000000000000
-0.00000000000000
701741.15692496556000
256282.96973187980000
