0.00000000000000
0.09000000000000
0.09000000000000
-0.00000000000000
701765.15692496556000
261191.96973187980000
