0.00000000000000
0.09000000000000
0.09000000000000
-0.00000000000000
701721.15692496556000
269966.96973187983000
