0.00000000000000
0.09000000000000
0.09000000000000
-0.00000000000000
701725.15692496556000
270566.96973187983000
