0.00000000000000
0.09000000000000
0.09000000000000
-0.00000000000000
701729.15692496556000
274011.96973187983000
