0.00000000000000
0.09000000000000
0.09000000000000
-0.00000000000000
701749.15692496556000
275701.96973187983000
