-0.00000000000000
-0.09000000000000
-0.09000000000000
0.00000000000000
702332.84307503444000
254391.03026812020000
