-0.00000000000000
-0.09000000000000
-0.09000000000000
0.00000000000000
702320.84307503444000
257491.03026812020000
