-0.00000000000000
-0.09000000000000
-0.09000000000000
0.00000000000000
702326.84307503444000
258066.03026812020000
