-0.00000000000000
-0.09000000000000
-0.09000000000000
0.00000000000000
702348.84307503444000
260886.03026812020000
