-0.00000000000000
-0.09000000000000
-0.09000000000000
0.00000000000000
702352.84307503444000
262553.03026812017000
