-0.00000000000000
-0.09000000000000
-0.09000000000000
0.00000000000000
702336.84307503444000
270782.03026812017000
