-0.00000000000000
-0.09000000000000
-0.09000000000000
0.00000000000000
702364.84307503444000
277698.03026812017000
