0.00000000000000
0.09000000000000
0.09000000000000
-0.00000000000000
699602.15692496556000
252250.96973187980000
