0.00000000000000
0.09000000000000
0.09000000000000
-0.00000000000000
699602.15692496556000
253353.96973187980000
