0.00000000000000
0.09000000000000
0.09000000000000
-0.00000000000000
699590.15692496556000
254464.96973187980000
