0.00000000000000
0.09000000000000
0.09000000000000
-0.00000000000000
699594.15692496556000
257243.96973187980000
