0.00000000000000
0.09000000000000
0.09000000000000
-0.00000000000000
699622.15692496556000
261350.96973187980000
