0.00000000000000
0.09000000000000
0.09000000000000
-0.00000000000000
699634.15692496556000
264994.96973187983000
