0.00000000000000
0.09000000000000
0.09000000000000
-0.00000000000000
699610.15692496556000
266244.96973187983000
