0.00000000000000
0.09000000000000
0.09000000000000
-0.00000000000000
699602.15692496556000
267419.96973187983000
