0.00000000000000
0.09000000000000
0.09000000000000
-0.00000000000000
699606.15692496556000
268030.96973187983000
