0.00000000000000
0.09000000000000
0.09000000000000
-0.00000000000000
699602.15692496556000
268593.96973187983000
