-0.00000000000000
-0.09000000000000
-0.09000000000000
0.00000000000000
700103.84307503444000
254046.03026812020000
