-0.00000000000000
-0.09000000000000
-0.09000000000000
0.00000000000000
700087.84307503444000
256514.03026812020000
