-0.00000000000000
-0.09000000000000
-0.09000000000000
0.00000000000000
700099.84307503444000
259003.03026812020000
