-0.00000000000000
-0.09000000000000
-0.09000000000000
0.00000000000000
700119.84307503444000
259582.03026812020000
