-0.00000000000000
-0.09000000000000
-0.09000000000000
0.00000000000000
700107.84307503444000
261908.03026812020000
