-0.00000000000000
-0.09000000000000
-0.09000000000000
0.00000000000000
700119.84307503444000
264960.03026812017000
