-0.00000000000000
-0.09000000000000
-0.09000000000000
0.00000000000000
700095.84307503444000
269766.03026812017000
