-0.00000000000000
-0.09000000000000
-0.09000000000000
0.00000000000000
700127.84307503444000
277162.03026812017000
