0.00000000000000
0.09000000000000
0.09000000000000
-0.00000000000000
697362.15692496556000
250137.96973187980000
