0.00000000000000
0.09000000000000
0.09000000000000
-0.00000000000000
697401.15692496556000
253787.96973187980000
