0.00000000000000
0.09000000000000
0.09000000000000
-0.00000000000000
697422.15692496556000
258536.96973187980000
