0.00000000000000
0.09000000000000
0.09000000000000
-0.00000000000000
697404.15692496556000
260266.96973187980000
