0.00000000000000
0.09000000000000
0.09000000000000
-0.00000000000000
697410.15692496556000
262622.96973187983000
