0.00000000000000
0.09000000000000
0.09000000000000
-0.00000000000000
697395.15692496556000
268666.96973187983000
