0.00000000000000
0.09000000000000
0.09000000000000
-0.00000000000000
697393.15692496556000
272365.96973187983000
