-0.00000000000000
-0.09000000000000
-0.09000000000000
0.00000000000000
697898.84307503444000
254929.03026812020000
