-0.00000000000000
-0.09000000000000
-0.09000000000000
0.00000000000000
697886.84307503444000
256108.03026812020000
