-0.00000000000000
-0.09000000000000
-0.09000000000000
0.00000000000000
697916.84307503444000
264160.03026812017000
